BEGIN:VCALENDAR
VERSION:2.0
PRODID:icalendar-ruby
CALSCALE:GREGORIAN
METHOD:PUBLISH
BEGIN:VEVENT
DTSTAMP:20260422T035241Z
UID:5-402391@krakensupport.tithelysetup2.com
DTSTART:20261018T173000Z
DTEND:20261018T183000Z
CLASS:PUBLIC
CREATED:20260419T151052
DESCRIPTION:Sunday Worship
LAST-MODIFIED:20260419T151052
LOCATION:
SUMMARY:Sunday Worship
URL;VALUE=URI:https://krakensupport.tithelysetup2.com/events/sunday-worship
 /2026-10-18
END:VEVENT
END:VCALENDAR
